BEGIN:VCALENDAR
VERSION:2.0
PRODID:-//ChamberMaster//Event Calendar 2.0//EN
METHOD:PUBLISH
X-PUBLISHED-TTL:P3D
REFRESH-INTERVAL:P3D
CALSCALE:GREGORIAN
BEGIN:VEVENT
DTSTART:20260618T210000Z
DTEND:20260618T233000Z
X-MICROSOFT-CDO-ALLDAYEVENT:FALSE
SUMMARY:Punta Gorda Trivia Night
DESCRIPTION:Do you know who played Iron Man in the Marvel movie or\, what country is know as the "Land of the Rising Sun"?\n\n\n\nIf so\, put a team together.  If you don't have a team\, we will put you on one when you get there.\n\n\n\nCome join us for an evening of trivia\, fun games and prizes at the Punta Gorda Isles Civic Association.  We are celebrating 60 years of service to our community (1966-2026) and in recognition of our Diamond Jubilee Anniversary we will have a few rounds that focus on 1960s trivia.  \n\n\n\nThis event is open to the public.  You are welcome to BYOB and snacks.\n\n\n\nGo to http://www.pgica.org to register.  Look for the calendar and then Special Events for June.  You can register in advance if you like.  Walk-ins are welcomed.  Doors open at 4:45 pm for Registration and mingle.  Games start at 5:30 pm.\n\n\n\nSave the date - June 18th.  BTW\, what Beatles birthday is that day?
X-ALT-DESC;FMTTYPE=text/html:<p>Do you know who played Iron Man in the Marvel movie or\, what country is know as the &ldquo\;Land of the Rising Sun&rdquo\;?<br />\n<br />\nIf so\, put a team together. &nbsp\;If you don&rsquo\;t have a team\, we will put you on one when you get there.<br />\n<br />\nCome join us for an evening of trivia\, fun games and prizes at the Punta Gorda Isles Civic Association. &nbsp\;We are celebrating 60 years of service to our community (1966-2026) and in recognition of our Diamond Jubilee Anniversary we will have a few rounds that focus on 1960s trivia. &nbsp\;</p>\n\n<p><br />\nThis event is open to the public. &nbsp\;You are welcome to BYOB and snacks.<br />\n<br />\nGo to <a href="http://www.pgica.org">http://www.pgica.org</a> to register. &nbsp\;Look for the calendar and then Special Events for June. &nbsp\;You can register in advance if you like.&nbsp\; Walk-ins are welcomed.&nbsp\; Doors open at 4:45 pm for Registration and mingle.&nbsp\; Games start at 5:30 pm.<br />\n<br />\nSave the date - June 18th. &nbsp\;BTW\, what Beatles birthday is that day?</p>\n
LOCATION:Punta Gorda Isles Civic Association 2001 Shreve St Punta Gorda\, FL 33950
UID:e.55.57456
SEQUENCE:3
DTSTAMP:20260424T064934Z
URL:https://cm.puntagordachamber.com/events/details/trivia-night-57456
END:VEVENT

END:VCALENDAR
