BEGIN:VCALENDAR
VERSION:2.0
PRODID:-//ChamberMaster//Event Calendar 2.0//EN
METHOD:PUBLISH
X-PUBLISHED-TTL:P3D
REFRESH-INTERVAL:P3D
CALSCALE:GREGORIAN
BEGIN:VEVENT
DTSTART:20220323T160000Z
DTEND:20220323T173000Z
X-MICROSOFT-CDO-ALLDAYEVENT:FALSE
SUMMARY:Networking Luncheon - March
DESCRIPTION:Come and join your Chamber for our Networking Luncheon a Charlotte High School. Please be sure to RSVP to reception@puntagorda-chamber.com  or call 941-639-3720. Cost is $20.00 per person. We can also accept online RSVPs and payments at: https://puntagordachamber.com/product/regular-monthly-chamber-luncheons-2/
X-ALT-DESC;FMTTYPE=text/html:<span style="font-size: 14px\;">Come and join your Chamber for our Networking Luncheon a Charlotte High School. Please be sure to RSVP to&nbsp\;</span><a href="mailto:reception@puntagorda-chamber.com" style="font-size: 14px\;">reception@puntagorda-chamber.com</a><span style="font-size: 14px\;">&nbsp\; or call 941-639-3720.&nbsp\;</span><span style="font-size: 14px\; color: rgb(34\, 34\, 34)\;">Cost is $20.00 per person.&nbsp\;</span><span style="font-size: 14px\; color: rgb(68\, 68\, 68)\; font-family: Arial\, Helvetica\, sans-serif\;">We can also accept online RSVPs and payments at:&nbsp\;</span><a href="https://puntagordachamber.com/product/regular-monthly-chamber-luncheons-2/" style="color: rgb(34\, 72\, 132)\; background: none\; inset: auto\; box-sizing: content-box\; clear: none\; content: normal\; direction: inherit\; display: inline\; empty-cells: show\; float: none\; font-variant-numeric: inherit\; font-variant-east-asian: inherit\; font-stretch: inherit\; font-size: 16px\; font-family: Arial\, Helvetica\, sans-serif\; line-height: inherit\; margin: 0px\; max-height: none\; max-width: none\; min-height: initial\; min-width: initial\; opacity: 1\; outline-offset: 0px\; overflow: visible\; padding: 0px\; position: static\; resize: none\; table-layout: auto\; text-decoration-line: none\; text-overflow: clip\; vertical-align: baseline\; visibility: inherit\; word-break: inherit\; overflow-wrap: break-word\; z-index: auto\; border-width: initial\; border-style: none\; border-color: initial\; border-collapse: separate\; border-image: none 100% 1 0 / 1 / 0 stretch\; border-radius: 0px\; height: auto\; width: auto\; box-shadow: none\;">https://puntagordachamber.com/product/regular-monthly-chamber-luncheons-2/</a>
LOCATION:Charlotte High School 1250 Cooper St. Punta Gorda
UID:e.55.41030
SEQUENCE:3
DTSTAMP:20260423T084258Z
URL:https://cm.puntagordachamber.com/events/details/networking-luncheon-march-41030
END:VEVENT

END:VCALENDAR
