BEGIN:VCALENDAR
VERSION:2.0
PRODID:-//ChamberMaster//Event Calendar 2.0//EN
METHOD:PUBLISH
X-PUBLISHED-TTL:P3D
REFRESH-INTERVAL:P3D
CALSCALE:GREGORIAN
BEGIN:VEVENT
DTSTART:20200923T160000Z
DTEND:20200923T173000Z
X-MICROSOFT-CDO-ALLDAYEVENT:FALSE
SUMMARY:Networking Luncheon- Captain's Table
DESCRIPTION:September's Networking Lunch at Captain's Table with speaker Tracey Codd from Expedia Travel talking about the state of travel during the times of COVID
X-ALT-DESC;FMTTYPE=text/html:September&#39\;s Networking Lunch at Captain&#39\;s Table with speaker Tracey Codd from Expedia Travel talking about the state of travel during the times of COVID
LOCATION:Captain's Table Fishermen's Village
UID:e.55.38170
SEQUENCE:3
DTSTAMP:20260425T111600Z
URL:https://cm.puntagordachamber.com/events/details/networking-luncheon-captain-s-table-38170
END:VEVENT

END:VCALENDAR
