BEGIN:VCALENDAR
VERSION:2.0
PRODID:-//ChamberMaster//Event Calendar 2.0//EN
METHOD:PUBLISH
X-PUBLISHED-TTL:P3D
REFRESH-INTERVAL:P3D
CALSCALE:GREGORIAN
BEGIN:VEVENT
DTSTART:20211114T180000Z
DTEND:20211114T220000Z
X-MICROSOFT-CDO-ALLDAYEVENT:FALSE
SUMMARY:Live Music at Fishermen's Village
DESCRIPTION:Live Music by a variety of musicians and bands every Sunday afternoon 12 noon-4 pm (note:  sunday performance times may vary)  Note:  No Sunday live music during football season.
X-ALT-DESC;FMTTYPE=text/html:<p>Live Music by a variety of musicians and bands every Sunday afternoon 12 noon-4 pm (note:&nbsp\; sunday performance times may vary)&nbsp\; Note:&nbsp\; No Sunday live music during football season.</p>\n
LOCATION:Fishermen's Village
UID:e.55.42011
SEQUENCE:3
DTSTAMP:20260423T153305Z
URL:https://cm.puntagordachamber.com/events/details/live-music-at-fishermen-s-village-11-14-2021-42011
END:VEVENT

END:VCALENDAR
