BEGIN:VCALENDAR
VERSION:2.0
PRODID:-//ChamberMaster//Event Calendar 2.0//EN
METHOD:PUBLISH
X-PUBLISHED-TTL:P3D
REFRESH-INTERVAL:P3D
CALSCALE:GREGORIAN
BEGIN:VEVENT
DTSTART:20221022T180000Z
DTEND:20221022T180000Z
X-MICROSOFT-CDO-ALLDAYEVENT:FALSE
SUMMARY:Blues Brews and BBQ returns
DESCRIPTION:BB&B is back in conjunction with our partners at Suncoast Beverage Group. On Oct 22nd 3-6pm\, TT's Tiki Bar located at Four Points by Sheraton 33 Tamiami Trail\, Punta Gorda for craft beer samplings\, great music\, great BBQ and so much more.   Want the VIP experience?  From 2-3 pm\, get to enter the event one hour early\, to sample special VIP brews\, selected for you!
X-ALT-DESC;FMTTYPE=text/html:BB&amp\;B is back in conjunction with our partners at Suncoast Beverage Group. On Oct 22nd 3-6pm\, TT&#39\;s Tiki Bar located at Four Points by Sheraton 33 Tamiami Trail\, Punta Gorda for craft beer samplings\, great music\, great BBQ and so much more.&nbsp\;&nbsp\; Want the VIP experience?&nbsp\; From 2-3 pm\, get to enter the event one hour early\, to sample special VIP brews\, selected for you!
LOCATION:TT's Tiki Bar located at Four Points by Sheraton 33 Tamiami Trail\, Punta Gorda
UID:e.55.47834
SEQUENCE:3
DTSTAMP:20260423T214338Z
URL:https://cm.puntagordachamber.com/events/details/blues-brews-and-bbq-returns-47834
END:VEVENT

END:VCALENDAR
