BEGIN:VCALENDAR
VERSION:2.0
PRODID:-//ChamberMaster//Event Calendar 2.0//EN
METHOD:PUBLISH
X-PUBLISHED-TTL:P3D
REFRESH-INTERVAL:P3D
CALSCALE:GREGORIAN
BEGIN:VEVENT
DTSTART:20250125T150000Z
DTEND:20250126T210000Z
X-MICROSOFT-CDO-ALLDAYEVENT:FALSE
SUMMARY:16th Annual Arts and Craft Specialty Market at the Shops of Bell Tower- Ft Myers January 25-26 2025
DESCRIPTION:Join 40+ Vendors at Bell Tower on South Cleveland Avenue for a festive extravaganza in Fort Myers\, FL\, USA. Get ready to immerse yourself in a world of creative wonders. Our event showcases a wide array of unique arts and crafts\, perfect for finding that special gift or adding a touch of handmade charm to your own home decor or wardrobe.\n\nPlus plenty of food and specialty treats and live music. Come join in the family fun and help support local artists\, craftsmen and small business alike! :)
X-ALT-DESC;FMTTYPE=text/html:Join 40+ Vendors at Bell Tower on South Cleveland Avenue for a festive extravaganza in Fort Myers\, FL\, USA. Get ready to immerse yourself in a world of creative wonders. Our event showcases a wide array of unique arts and crafts\, perfect for finding that special gift or adding a touch of handmade charm to your own home decor or wardrobe.<br />\nPlus plenty of food and specialty treats and live music. Come join in the family fun and help support local artists\, craftsmen and small business alike! :)
LOCATION:The Shops at Bell Tower South Cleveland Ave in Fort Myers Florida
UID:e.55.54631
SEQUENCE:3
DTSTAMP:20260423T155106Z
URL:https://cm.puntagordachamber.com/events/details/16th-annual-arts-and-craft-holiday-bizarre-at-the-shops-of-bell-tower-ft-myers-december-4-5-6-2024-10-4-54631
END:VEVENT

END:VCALENDAR
